BEGIN:VCALENDAR
VERSION:2.0
PRODID:Dongara District High School P&C 
CALSCALE:GREGORIAN
BEGIN:VEVENT
DTSTAMP:20260423T231502Z
UID:f510eba6-9415-4fa5-b2f0-d2b203f2c39b
DTSTART:20170214T231500Z
DTEND:20170215T155900Z
DESCRIPTION:
LOCATION:School Confrence Room
SUMMARY:General Meeting 
URL;VALUE=URI:https://ddhspandc.tidyhq.com/public/schedule/meetings/FDKLr88
END:VEVENT
END:VCALENDAR
